BEGIN:VCALENDAR
VERSION:2.0
PRODID:-//Yuhua Family//Community Happening Calendar//EN
BEGIN:VEVENT
SUMMARY:Yuhua Sewing Enthusiasts Recruitment Drive 2026
DTSTART;VALUE=DATE:20260101
DTEND;VALUE=DATE:20261231
DTSTAMP;VALUE=DATE-TIME:20260422T174454Z
UID:Yuhua%20Sewing%20Enthusiasts%20Recruitment%20Drive%202026-1cde4cd95ca2
 45d495ef5b0001e431b9
DESCRIPTION:<p data-start="336" data-end="384"><strong data-start="336" da
 ta-end="384">🧵 Sewing Enthusiasts &ndash\; Join Us! | 缝纫爱好者
 招募中！</strong></p>\n<p data-start="386" data-end="454">Love sewing 
 and working with upcycled fabrics?<br data-start="432" data-end="435" />
 热爱缝纫并乐于利用二手布料进行再造吗？</p>\n<p data-sta
 rt="456" data-end="636">We are looking for volunteers and part-time sewing
  enthusiasts to join our sustainable upcycling projects &mdash\; creating 
 tote bags\, pouches and more while giving fabrics a second life.</p>\n<p d
 ata-start="638" data-end="688">我们正在招募志愿者与兼职缝纫
 伙伴，一起通过环保服饰项目制作手提袋、收纳包等产
 品，为旧布料赋予新生命。</p>\n<p data-start="690" data-end="83
 0">✅ Open to sewing with second-hand / upcycled fabrics<br data-start="7
 42" data-end="745" />✅ Volunteer &amp\; paid sewing projects available<b
 r data-start="789" data-end="792" />✅ Flexible ad-hoc participation | 
 时间灵活</p>\n<p data-start="832" data-end="892">📍 <strong data-sta
 rt="835" data-end="860">Every Wednesday | 每周三</strong><br data-start
 ="860" data-end="863" /><strong data-start="863" data-end="892">247 Jurong
  East Street 24</strong></p>\n<p data-start="894" data-end="982">📲 <str
 ong data-start="897" data-end="928">Register via QR code | 扫码报名</s
 trong><br data-start="928" data-end="931" />📞 <strong data-start="934" 
 data-end="957">8482 3821 (WA Text)</strong><br data-start="957" data-end="
 960" />📧 <strong data-start="963" data-end="982"><a class="decorated-li
 nk cursor-pointer" rel="noopener" data-start="965" data-end="980">yhpcf@ya
 hoo.com</a></strong></p>\nVisit Yuhua Family to find more aboutYuhua Sewin
 g Enthusiasts Recruitment Drive 2026:\nhttps://yuhua.sg/community/182/yuhu
 a-sewing-enthusiasts-recruitment-drive-2026/
LOCATION:247 Jurong East Street 24 #01-02 Singapore 600247
END:VEVENT
END:VCALENDAR
