BEGIN:VCALENDAR
VERSION:2.0
PRODID:-//Yuhua Family//Community Happening Calendar//EN
BEGIN:VEVENT
SUMMARY:Yuhua CC Leap Programme
DTSTART;VALUE=DATE:20260109
DTEND;VALUE=DATE:20261231
DTSTAMP;VALUE=DATE-TIME:20260422T174109Z
UID:Yuhua%20CC%20Leap%20Programme-1c26e43507924ebab1adf299cee473f1
DESCRIPTION:<p data-start="378" data-end="511"><strong data-start="378" da
 ta-end="424">📚 Need a boost in English or Mathematics?</strong><br data
 -start="424" data-end="427" />Yuhua CC&rsquo\;s <strong data-start="438" d
 ata-end="456">LEAP Programme</strong> is here to support your child&rsquo\
 ;s learning journey! 🌟</p>\n<p data-start="513" data-end="681">Through 
 guided sessions led by <strong data-start="544" data-end="569">undergradua
 te mentors</strong>\, students receive personalised help to build confiden
 ce\, strengthen fundamentals\, and stay motivated in school.</p>\n<p data-
 start="683" data-end="762">🧑&zwj\;🎓 <strong data-start="689" data-en
 d="706">Who can join?</strong><br data-start="706" data-end="709" />✔ P3
  to Sec 1 students (2026)<br data-start="738" data-end="741" />✔ Residin
 g in Yuhua</p>\n<p data-start="764" data-end="896">🗓 <strong data-start
 ="767" data-end="776">When:</strong> Wednesdays<br data-start="787" data-e
 nd="790" />⏰ <strong data-start="792" data-end="801">Time:</strong> 7.30
 pm &ndash\; 9.00pm<br data-start="817" data-end="820" />📍 <strong data-
 start="823" data-end="833">Venue:</strong> Yuhua Community Club<br data-st
 art="854" data-end="857" />💰 <strong data-start="860" data-end="869">Co
 st:</strong> Free (materials provided!)</p>\n<p data-start="898" data-end=
 "955">🔗 <strong data-start="901" data-end="919">Register here:</strong>
 <br data-start="919" data-end="922" />👉 <a class="decorated-link cursor
 -pointer" href="https://go.gov.sg/yhleap2026" data-start="925" data-end="9
 53">https://go.gov.sg/yhleap2026</a></p>\nVisit Yuhua Family to find more 
 aboutYuhua CC Leap Programme:\nhttps://yuhua.sg/community/185/yuhua-cc-lea
 p-programme/
LOCATION:Yuhua CC\, 90 Boon Lay Way\, Singapore 609958
END:VEVENT
END:VCALENDAR
