BEGIN:VCALENDAR
VERSION:2.0
PRODID:-//Yuhua Family//Community Happening Calendar//EN
BEGIN:VEVENT
SUMMARY:Block Party at Yuhua Zone 9
DTSTART;TZID=Asia/Singapore;VALUE=DATE-TIME:20260308T103000
DTEND;TZID=Asia/Singapore;VALUE=DATE-TIME:20260308T123000
DTSTAMP;VALUE=DATE-TIME:20260424T161057Z
UID:Block%20Party%20at%20Yuhua%20Zone%209-ca5aed9820b6461aa85cccf863ec613f
DESCRIPTION:<p data-path-to-node="1">Hey neighbors! Get ready for a mornin
 g of community fun at the <strong data-path-to-node="1" data-index-in-node
 ="63">Yuhua Zone 9 @ TGP RN Block Party</strong>! Specifically for residen
 ts of <strong data-path-to-node="1" data-index-in-node="128">Blocks 286A-D
 </strong>\, this is the perfect chance to kick back\, relax\, and mingle w
 ith the folks next door. 🏘️✨</p>\n<p data-path-to-node="2">We are a
 lso excited to welcome <strong data-path-to-node="2" data-index-in-node="3
 1">Ms. Grace Fu</strong>\, Adviser to Jurong East - Bukit Batok GRC GROs (
 Yuhua)\, as our special guest! 🤝</p>\n<hr data-path-to-node="3" />\n<h3
  data-path-to-node="4">📅 Mark Your Calendars</h3>\n<ul data-path-to-nod
 e="5">\n<li>\n<p data-path-to-node="5\,0\,0"><strong data-path-to-node="5\
 ,0\,0" data-index-in-node="0">When:</strong> Sunday\, 08 March 2026 🗓
 ️</p>\n</li>\n<li>\n<p data-path-to-node="5\,1\,0"><strong data-path-to-
 node="5\,1\,0" data-index-in-node="0">Time:</strong> 10:30am &ndash\; 12:3
 0pm 🕙</p>\n</li>\n<li>\n<p data-path-to-node="5\,2\,0"><strong data-pat
 h-to-node="5\,2\,0" data-index-in-node="0">Where:</strong> Blk 286 MPH (Mu
 lti-Purpose Hall) 📍</p>\n</li>\n</ul>\n<hr data-path-to-node="6" />\n<h
 3 data-path-to-node="7">🎡 Event Highlights</h3>\n<ul data-path-to-node=
 "8">\n<li>\n<p data-path-to-node="8\,0\,0"><strong data-path-to-node="8\,0
 \,0" data-index-in-node="0">Exciting Games:</strong> Test your skills and 
 win some smiles! 🎯</p>\n</li>\n<li>\n<p data-path-to-node="8\,1\,0"><st
 rong data-path-to-node="8\,1\,0" data-index-in-node="0">Delicious Lunch:</
 strong> A tasty spread to enjoy with friends. 🍱🥢</p>\n</li>\n<li>\n<
 p data-path-to-node="8\,2\,0"><strong data-path-to-node="8\,2\,0" data-ind
 ex-in-node="0">Bouncy Castle:</strong> Pure joy for the kids (and a break 
 for the parents)! 🏰🤸&zwj\;♂️</p>\n</li>\n<li>\n<p data-path-to-n
 ode="8\,3\,0"><strong data-path-to-node="8\,3\,0" data-index-in-node="0">.
 ..and so much more!</strong> 🎁</p>\n</li>\n</ul>\n<h3 data-path-to-node
 ="9">🎫 Get Your Tickets</h3>\n<p data-path-to-node="10">Tickets are jus
 t <strong data-path-to-node="10" data-index-in-node="17">$2</strong>! Grab
  yours at the <strong data-path-to-node="10" data-index-in-node="39">Yuhua
  Zone 9 @ TGP RN Centre</strong> (Blk 288C Jurong East St 21\, #01-384). 
 🎟️</p>\n<p data-path-to-node="11"><strong data-path-to-node="11" data
 -index-in-node="0">Ticket Booth Hours:</strong></p>\n<ul data-path-to-node
 ="12">\n<li>\n<p data-path-to-node="12\,0\,0">Wednesday &amp\; Friday: 8:0
 0pm &ndash\; 9:30pm 🌙</p>\n</li>\n</ul>\n<p data-path-to-node="13">See 
 you there for a morning of good vibes and great company! 🌈👋</p>\nVis
 it Yuhua Family to find more aboutBlock Party at Yuhua Zone 9:\nhttps://yu
 hua.sg/community/188/block-party-at-yuhua-zone-9/
LOCATION:Blk 286 MPH
END:VEVENT
END:VCALENDAR
