BEGIN:VCALENDAR
VERSION:2.0
PRODID:-//Yuhua Family//Community Happening Calendar//EN
BEGIN:VEVENT
SUMMARY:Introduction to AI & Machine Learning Workshop - Yuhua Zone 4
DTSTART;TZID=Asia/Singapore;VALUE=DATE-TIME:20260328T093000
DTEND;TZID=Asia/Singapore;VALUE=DATE-TIME:20260328T123000
DTSTAMP;VALUE=DATE-TIME:20260424T161658Z
UID:Introduction%20to%20AI%20%26%20Machine%20Learning%20Workshop%20-%20Yuh
 ua%20Zone%204-f869829a52614d6085e9406e7e6b2d4f
DESCRIPTION:<p>🤖✨ Introduction to AI &amp\; Machine Learning Workshop
  ✨🤖</p>\n<p>Curious about AI and how it works? Join us for a fun and 
 beginner-friendly session!</p>\n<p>📚 What you&rsquo\;ll learn:<br />✔
 ️ What AI &amp\; Machine Learning are<br />✔️ How Artificial Neural 
 Networks (ANN) work<br />✔️ Train a model to recognise handwritten num
 bers<br />✔️ Hands-on coding activity</p>\n<p>📅 Date: 28 March 2026
  (Saturday)<br />⏰ Time: 9.30am &ndash\; 12.30pm<br />📍 Venue: Yuhua 
 Zone 4 RN Centre<br />Blk 223A Jurong East Street 21</p>\n<p>💻 Bring al
 ong: Laptop &amp\; charger<br />💲 Fee: $5 only</p>\n<p>🔗 Sign up now
 :<br />Scan the QR code or visit: go.gov.sg/yhz4yn-ai</p>\n<p>📞 For enq
 uiries\, contact Yuhua CC at 6560 4490</p>\n<p>Limited slots available &nd
 ash\; don&rsquo\;t miss out! 🚀</p>\nVisit Yuhua Family to find more abo
 utIntroduction to AI & Machine Learning Workshop - Yuhua Zone 4:\nhttps://
 yuhua.sg/community/190/introduction-to-ai-machine-learning-workshop-yuhua-
 zone-4/
LOCATION:Yuhua Zone 4 RN
END:VEVENT
END:VCALENDAR
