BEGIN:VCALENDAR
VERSION:2.0
PRODID:-//Yuhua Family//Community Happening Calendar//EN
BEGIN:VEVENT
SUMMARY:Yuhua Yok Berkampung Raya 2026
DTSTART;TZID=Asia/Singapore;VALUE=DATE-TIME:20260405T180000
DTEND;TZID=Asia/Singapore;VALUE=DATE-TIME:20260405T210000
DTSTAMP;VALUE=DATE-TIME:20260424T161454Z
UID:Yuhua%20Yok%20Berkampung%20Raya%202026-ed88067292354725a674d3fecda4359
 7
DESCRIPTION:<p>🌙 Yok Berkampung Raya!</p>\n<p>Join us for a meaningful 
 evening of Hari Raya celebration as we bring back the warmth of kampung sp
 irit &mdash\; good food\, lively performances\, and quality time with neig
 hbours and friends 💚</p>\n<p>📅 &nbsp\;Date: 5 April 2026 (Sunday)<br
  />🕕 Time: 6&ndash\;9PM<br />📍 Venue: Yuhua CC Hall<br />🎟 Ticket
 : $10</p>\n<p>Scan the QR code to register or visit this link: https://go.
 gov.sg/yh-hariraya-2026</p>\n<p>See you there! ✨</p>\n<p>---&nbsp\;</p>\
 n<p>🌙 Yok Berkampung Raya!</p>\n<p>Jom kita sama-sama menghidupkan kemb
 ali kemesraan suasana kampung dalam sambutan Hari Raya di Yuhua CC! Nikmat
 i juadah enak\, persembahan menarik\, serta luangkan masa berkualiti bersa
 ma jiran dan rakan-rakan 💚</p>\n<p>📅 Tarikh: 5 April 2026 (Ahad)<br 
 />🕕 Masa: 6&ndash\;9 malam<br />📍 Tempat: Dewan Serbaguna Yuhua CC<b
 r />🎟 Tiket: $10</p>\n<p>Imbas kod QR untuk mendaftar atau layari laman
  web ini: https://go.gov.sg/yh-hariraya-2026</p>\n<p>Jumpa anda di sana! 
 ✨</p>\nVisit Yuhua Family to find more aboutYuhua Yok Berkampung Raya 20
 26:\nhttps://yuhua.sg/community/191/yuhua-yok-berkampung-raya-2026/
LOCATION:Yuhua CC\, 90 Boon Lay Way\, Singapore 609958
END:VEVENT
END:VCALENDAR
