BEGIN:VCALENDAR
VERSION:2.0
PRODID:-//Yuhua Family//Community Happening Calendar//EN
BEGIN:VEVENT
SUMMARY:Meet-the-People session
DTSTART;VALUE=DATE:20250505
DTSTAMP;VALUE=DATE-TIME:20260422T173342Z
UID:Meet-the-People%20session-47384477d87c4d7a81677dee2943338e
DESCRIPTION:<p>Yuhua Meet-the-People session is held every Monday 7:30pm @
  247 Jurong East St 24 #01-02</p>\nVisit Yuhua Family to find more aboutMe
 et-the-People session:\nhttps://yuhua.sg/community/7/meet-the-people-sessi
 on/
LOCATION:247 Jurong East Street 24 #01-02 Singapore 600247
END:VEVENT
END:VCALENDAR
